BEGIN:VCALENDAR
VERSION:2.0
PRODID:icalendar-ruby
CALSCALE:GREGORIAN
METHOD:PUBLISH
BEGIN:VEVENT
DTSTAMP:20260422T123403Z
UID:8-878652@heberfirst.com
DTSTART:20261007T233000Z
DTEND:20261008T010000Z
CLASS:PUBLIC
CREATED:20260422T063107
DESCRIPTION:
LAST-MODIFIED:20260422T063107
LOCATION:
SUMMARY:Midweek Service
URL;VALUE=URI:https://www.heberfirst.com/events/midweek-service/2026-10-07
ATTACH;FILENAME=Sunday-2.png;FMTTYPE=image/png:https://dq5pwpg1q8ru0.cloudf
 ront.net/2022/06/14/08/06/12/840f530c-b5be-4879-8d66-56723da52fb7/Sunday-2
 .png
END:VEVENT
END:VCALENDAR
