BEGIN:VCALENDAR
VERSION:2.0
PRODID:icalendar-ruby
CALSCALE:GREGORIAN
METHOD:PUBLISH
BEGIN:VEVENT
DTSTAMP:20260422T072035Z
UID:8-878191@heberfirst.com
DTSTART:20260916T233000Z
DTEND:20260917T010000Z
CLASS:PUBLIC
CREATED:20260421T192914
DESCRIPTION:
LAST-MODIFIED:20260421T192914
LOCATION:
SUMMARY:Midweek Service
URL;VALUE=URI:https://www.heberfirst.com/events/midweek-service/2026-09-16
ATTACH;FILENAME=Sunday-2.png;FMTTYPE=image/png:https://dq5pwpg1q8ru0.cloudf
 ront.net/2022/06/14/08/06/12/840f530c-b5be-4879-8d66-56723da52fb7/Sunday-2
 .png
END:VEVENT
END:VCALENDAR
